BEGIN:VCALENDAR
VERSION:2.0
PRODID:-//Library Market//iCal Export//EN
BEGIN:VEVENT
SUMMARY:Citizens&#039; Oversight Committee
UID:6656
DTSTAMP:20260421T212200Z
DTSTART:20261022T230000Z
DTEND:20261023T010000Z
LOCATION:City of Santa Barbara, 735 Anacapa St, Room 15, Santa Barbara, CA
  93101, United States
ROOM: Citizens&#039; Oversight Committee
DESCRIPTION:The Citizens&#039; Oversight Committee meets semi-annually; 90
  days within the year-end Annual Accountability Performance Report and in 
 February at 4:00 p.m. in Room 15, City Hall, 735 Anacapa Street.AgendasGen
 eral FunctionsVolunteer HistoryIncorporated in 1850, the City of Santa Ba
 rbara has many facilities that are old and in need of major improvement an
 d/or renovation. In addition, a lack of funding for streets, sidewalks, st
 orm drains, and other streets-related infrastructure has resulted in the d
 eterioration of these critical systems the community relies upon on a dail
 y basis.In November 2017, Santa Barbara residents approved Measure C – S
 anta Barbara Critical Infrastructure and Essential Community Services, whi
 ch provided a one-cent general purpose local sales transaction and use tax
 . Measure C, which became effective April 1, 2018, will generate an estima
 ted $22.0 Million per year and provide much needed funding for critical in
 frastructure, to address deferred maintenance of City facilities, and to r
 eplace the City&#039;s outdated and unsafe police station. 
URL:https://calendar.santabarbaraca.gov/event/citizens-oversight-committee
 -6656
END:VEVENT
END:VCALENDAR
