BEGIN:VCALENDAR
VERSION:2.0
PRODID:-//Library Market//iCal Export//EN
BEGIN:VEVENT
SUMMARY:Finance Committee Special Meeting
UID:6655
DTSTAMP:20260421T203800Z
DTSTART:20260519T190000Z
DTEND:20260519T203000Z
LOCATION:David Gebhard Public Meeting Room, 630 Garden Street, Santa Barba
 ra, CA 93103, United States
ROOM: Finance Committee Special Meeting
DESCRIPTION:This is a Special meeting of the Finance Committee, that will 
 be held at 12:00 p.m. in the David Gebhard Public Meeting Room, 630 Garden
  Street.The Finance Committee generally meets at 12:00 p.m. on selected Tu
 esdays in Council Chambers at City Hall, 735 Anacapa St. The meeting is av
 ailable in person and virtually.The complete Finance Committee agenda and 
 instructions for public participation can be found in the complete City Co
 uncil agenda here:Santa Barbara City Council Meeting Agenda.Watch live on 
 YouTube, or on the Finance Committee page of the City&#039;s website. 
URL:https://calendar.santabarbaraca.gov/event/finance-committee-special-me
 eting-6655
END:VEVENT
END:VCALENDAR
