BEGIN:VCALENDAR
VERSION:2.0
PRODID:-//Library Market//iCal Export//EN
BEGIN:VEVENT
SUMMARY:Santa Barbara Arts &amp; Crafts Show Advisory Committee
UID:6674
DTSTAMP:20260425T142600Z
DTSTART:20260909T010000Z
DTEND:20260909T030000Z
LOCATION:Louise Lowry Davis Center, 111 W. Victoria St., Santa Barbara, CA
  93101, United States
ROOM: Santa Barbara Arts &amp; Crafts Show Advisory Committee
DESCRIPTION:The Santa Barbara Arts and Crafts Show Advisory Committee meet
 s on the second Tuesday of each month.  Regular meetings are held at the 
 Louise Lowry Davis Center at 111 W. Victoria Street.AgendasGeneral Functio
 nsVolunteerHistoryThe Santa Barbara Arts and Crafts Show is a long standin
 g tradition along the Santa Barbara waterfront. Established in 1965 by loc
 al artists and sponsored by the City of Santa Barbara’s Parks and Recrea
 tion Department since 1966, the show is now the only continuous, non-jurie
 d art festival of original drawings, paintings, graphics, sculpture, craft
 s, and photography in the world. The show is held along Cabrillo Blvd. eve
 ry Sunday of the year and select Saturdays. All artwork sold is original a
 rt, created by the approximately 200 Santa Barbara County artists. Show me
 mbers display their artwork in an informal atmosphere that encourages visi
 tors to talk with the artists about their work, and in some cases even see
  them in action.   
URL:https://calendar.santabarbaraca.gov/event/santa-barbara-arts-crafts-sh
 ow-advisory-committee-6674
END:VEVENT
END:VCALENDAR
